BEGIN:VCALENDAR
VERSION:2.0
PRODID:-//wp-events-plugin.com//7.2.3.1//EN
TZID:America/Los_Angeles
X-WR-TIMEZONE:America/Los_Angeles
BEGIN:VEVENT
UID:39@collaborativepracticesandiego.com
DTSTART;TZID=America/Los_Angeles:20200606T090000
DTEND;TZID=America/Los_Angeles:20200606T120000
DTSTAMP:20240310T124041Z
URL:https://collaborativepracticesandiego.com/events/divorce-options-works
 hop-19/
SUMMARY:Divorce Options&trade\; Workshop
DESCRIPTION:Discover Your Divorce Options\nPlease note that all Divorce Opt
 ions Workshops are now held as online webinars until further notice due to
  COVID-19 concerns.\nHow to Register:\nThe Workshop cost is $25 per person
 .\nWe understand that many of you have suffered financially during the Cov
 id 19 pandemic. Therefore\, we are currently waiving the fee for our Divor
 ce Options Workshop. To register\, please send an email through the Contac
 t Us page and you will be sent a link to this informative ZOOM Workshop.\n
 \n\nClick Here to Register\nFor additional information:\nCall 858-472-4022
  or email SanDiegoDivorceOptions@gmail.com
ATTACH;FMTTYPE=image/jpeg:https://collaborativepracticesandiego.com/wp-con
 tent/uploads/2018/04/DO-logo-1.jpg
CATEGORIES:Divorce Options Workshop
END:VEVENT
BEGIN:VTIMEZONE
TZID:America/Los_Angeles
X-LIC-LOCATION:America/Los_Angeles
BEGIN:DAYLIGHT
DTSTART:20200308T030000
TZOFFSETFROM:-0800
TZOFFSETTO:-0700
TZNAME:PDT
END:DAYLIGHT
END:VTIMEZONE
END:VCALENDAR