BEGIN:VCALENDAR
VERSION:2.0
PRODID:-//wp-events-plugin.com//7.2.3.1//EN
TZID:America/Los_Angeles
X-WR-TIMEZONE:America/Los_Angeles
BEGIN:VEVENT
UID:31@collaborativepracticesandiego.com
DTSTART;TZID=America/Los_Angeles:20200307T090000
DTEND;TZID=America/Los_Angeles:20200307T120000
DTSTAMP:20240310T123141Z
URL:https://collaborativepracticesandiego.com/events/divorce-options-works
 hop-16/
SUMMARY:Divorce Options&trade\; Workshop
DESCRIPTION:Discover Your Divorce Options\nThis workshop will be held at:\n
 \n5230 Carroll Canyon Road\nSuite 200\nSan Diego\, CA 92121\nHow to pay an
 d to RSVP:\nClick the button below. The Workshop cost is $25 per person.\n
 \n&nbsp\;\nFor additional information:\nCall 858-472-4022 or email SanDieg
 oDivorceOptions@gmail.com
ATTACH;FMTTYPE=image/jpeg:https://collaborativepracticesandiego.com/wp-con
 tent/uploads/2018/04/DO-logo-1.jpg
CATEGORIES:Divorce Options Workshop
LOCATION:Pacific Divorce Management\, 5230 Caroll Canyon Road\, Suite 200\,
  San Diego\, CA\, 92121\, United States
GEO:32.891629;-117.194621
X-APPLE-STRUCTURED-LOCATION;VALUE=URI;X-ADDRESS=5230 Caroll Canyon Road\, S
 uite 200\, San Diego\, CA\, 92121\, United States;X-APPLE-RADIUS=100;X-TIT
 LE=Pacific Divorce Management:geo:32.891629,-117.194621
END:VEVENT
BEGIN:VTIMEZONE
TZID:America/Los_Angeles
X-LIC-LOCATION:America/Los_Angeles
BEGIN:STANDARD
DTSTART:20191103T010000
TZOFFSETFROM:-0700
TZOFFSETTO:-0800
TZNAME:PST
END:STANDARD
END:VTIMEZONE
END:VCALENDAR