BEGIN:VCALENDAR
VERSION:2.0
PRODID:-//wp-events-plugin.com//7.2.3.1//EN
TZID:America/Los_Angeles
X-WR-TIMEZONE:America/Los_Angeles
BEGIN:VEVENT
UID:17@collaborativepracticesandiego.com
DTSTART;TZID=America/Los_Angeles;VALUE=DATE:20181025
DTEND;TZID=America/Los_Angeles;VALUE=DATE:20181029
DTSTAMP:20240310T015708Z
URL:https://collaborativepracticesandiego.com/events/19th-annual-iacp-netw
 orking-and-educational-forum/
SUMMARY:19th Annual IACP Networking and Educational Forum
DESCRIPTION:For more information\, click here.
ATTACH;FMTTYPE=image/jpeg:https://collaborativepracticesandiego.com/wp-con
 tent/uploads/2018/04/event-image-iacp-training-networking.jpg
CATEGORIES:IACP
LOCATION:The Westin – Seattle\, 1900 5th Avenue\, Seattle\, WA \, 98101\,
  United States
GEO:47.613689;-122.33812
X-APPLE-STRUCTURED-LOCATION;VALUE=URI;X-ADDRESS=1900 5th Avenue\, Seattle\,
  WA \, 98101\, United States;X-APPLE-RADIUS=100;X-TITLE=The Westin – Sea
 ttle:geo:47.613689,-122.33812
END:VEVENT
BEGIN:VTIMEZONE
TZID:America/Los_Angeles
X-LIC-LOCATION:America/Los_Angeles
BEGIN:DAYLIGHT
DTSTART:20180311T030000
TZOFFSETFROM:-0800
TZOFFSETTO:-0700
TZNAME:PDT
END:DAYLIGHT
END:VTIMEZONE
END:VCALENDAR